View In:
ArcGIS JavaScript
ArcGIS Online Map Viewer
ArcGIS Earth
Service Description: Enviroportal/DBO_IRS_2004
Name: Enviroportal/DBO_IRS_2004
Description:
Single Fused Map Cache: false
Extent:
XMin: 51.169677734375
YMin: 22.46767053577203
XMax: 56.669462587442354
YMax: 26.46807861328125
Spatial Reference: 4326
(4326)
LatestVCSWkid(0)
Initial Extent:
XMin: 51.169677734375
YMin: 22.46767053577203
XMax: 56.669462587442354
YMax: 26.46807861328125
Spatial Reference: 4326
(4326)
LatestVCSWkid(0)
Full Extent:
XMin: 51.169677734375
YMin: 22.46767053577203
XMax: 56.669462587442354
YMax: 26.46807861328125
Spatial Reference: 4326
(4326)
LatestVCSWkid(0)
Pixel Size X: 2.3000103935544303E-4
Pixel Size Y: 2.3000103935544303E-4
Band Count: 3
Pixel Type: U8
RasterFunction Infos: {"rasterFunctionInfos": [{
"name": "None",
"description": "",
"help": ""
}]}
Mensuration Capabilities: Basic
Inspection Capabilities:
Has Histograms: true
Has Colormap: false
Has Multi Dimensions : false
Rendering Rule:
Min Scale: 0
Max Scale: 0
Copyright Text:
Service Data Type: esriImageServiceDataTypeRGB
Min Values: 0, 7, 3
Max Values: 255, 255, 255
Mean Values: 86.28371768755892, 87.05214498957127, 86.00714477971385
Standard Deviation Values: 70.76458572825317, 57.88288810890402, 50.448841545513986
Object ID Field:
Fields:
None
Default Mosaic Method: Center
Allowed Mosaic Methods:
SortField:
SortValue: null
Mosaic Operator: First
Default Compression Quality: 75
Default Resampling Method: Bilinear
Max Record Count: null
Max Image Height: 4100
Max Image Width: 15000
Max Download Image Count: null
Max Mosaic Image Count: null
Allow Raster Function: true
Allow Copy: true
Allow Analysis: true
Allow Compute TiePoints: false
Supports Statistics: false
Supports Advanced Queries: false
Use StandardizedQueries: false
Raster Type Infos:
Name: Raster Dataset
Description: Supports all ArcGIS Raster Datasets
Help:
Has Raster Attribute Table: false
Edit Fields Info: null
Ownership Based AccessControl For Rasters: null
Child Resources:
Info
Histograms
Statistics
Key Properties
Legend
Raster Function Infos
Supported Operations:
Export Image
Identify
Measure
Compute Histograms
Compute Statistics Histograms
Get Samples
Compute Class Statistics
Query Boundary
Compute Pixel Location
Compute Angles
Validate
Project