{
 "currentVersion": 11.3,
 "serviceDescription": "Enviroportal/DBO_IRS_2004",
 "name": "Enviroportal/DBO_IRS_2004",
 "description": "",
 "extent": {
  "xmin": 51.169677734375,
  "ymin": 22.46767053577203,
  "xmax": 56.669462587442354,
  "ymax": 26.46807861328125,
  "spatialReference": {
   "wkid": 4326,
   "latestWkid": 4326
  }
 },
 "initialExtent": {
  "xmin": 51.169677734375,
  "ymin": 22.46767053577203,
  "xmax": 56.669462587442354,
  "ymax": 26.46807861328125,
  "spatialReference": {
   "wkid": 4326,
   "latestWkid": 4326
  }
 },
 "fullExtent": {
  "xmin": 51.169677734375,
  "ymin": 22.46767053577203,
  "xmax": 56.669462587442354,
  "ymax": 26.46807861328125,
  "spatialReference": {
   "wkid": 4326,
   "latestWkid": 4326
  }
 },
 "sortableFields": "",
 "bandCount": 3,
 "pixelType": "U8",
 "minValues": [
  0,
  7,
  3
 ],
 "maxValues": [
  255,
  255,
  255
 ],
 "meanValues": [
  86.28371768755892,
  87.05214498957127,
  86.00714477971385
 ],
 "stdvValues": [
  70.76458572825317,
  57.88288810890402,
  50.448841545513986
 ],
 "hasMultidimensions": false,
 "pixelSizeX": 2.3000103935544303E-4,
 "pixelSizeY": 2.3000103935544303E-4,
 "meanPixelSize": 25.603598582971593,
 "datasetFormat": "FGDBR",
 "uncompressedSize": 1247704248,
 "blockWidth": 128,
 "blockHeight": 128,
 "compressionType": "LZ77",
 "bandNames": [
  "Band_1",
  "Band_2",
  "Band_3"
 ],
 "allowCopy": true,
 "allowAnalysis": true,
 "itemAccess": false,
 "inspectionCapabilities": "",
 "minPixelSize": 0,
 "maxPixelSize": 0,
 "copyrightText": "",
 "serviceDataType": "esriImageServiceDataTypeRGB",
 "serviceSourceType": "esriImageServiceSourceTypeDataset",
 "objectIdField": "",
 "fields": [],
 "capabilities": "Image,Metadata,Mensuration",
 "defaultMosaicMethod": "Center",
 "allowedMosaicMethods": "",
 "sortField": "",
 "sortValue": null,
 "sortAscending": true,
 "mosaicOperator": "First",
 "defaultCompressionQuality": 75,
 "defaultResamplingMethod": "Bilinear",
 "maxImageHeight": 4100,
 "maxImageWidth": 15000,
 "allowRasterFunction": true,
 "rasterFunctionInfos": [
  {
   "name": "None",
   "description": "",
   "help": ""
  }
 ],
 "rasterTypeInfos": [
  {
   "name": "Raster Dataset",
   "description": "Supports all ArcGIS Raster Datasets",
   "help": ""
  }
 ],
 "mensurationCapabilities": "Basic",
 "hasHistograms": true,
 "hasColormap": false,
 "hasRasterAttributeTable": false,
 "minScale": 0,
 "maxScale": 0,
 "exportTilesAllowed": false,
 "supportsStatistics": false,
 "supportsAdvancedQueries": false,
 "editFieldsInfo": null,
 "ownershipBasedAccessControlForRasters": null,
 "allowComputeTiePoints": false,
 "useStandardizedQueries": false,
 "advancedQueryCapabilities": {
  "useStandardizedQueries": false,
  "supportsStatistics": false,
  "supportsOrderBy": false,
  "supportsDistinct": false,
  "supportsPagination": false
 },
 "spatialReference": {
  "wkid": 4326,
  "latestWkid": 4326
 }
}
