View In:
ArcGIS JavaScript
ArcGIS Online Map Viewer
ArcGIS Earth
Service Description: High Sodium Adsorption Ratios (SAR) indicate toxicity for susceptible plants like fruit trees and vegetables. Areas with predominant irrigation by desalinated water such as Ajban Palace, Al Nahda and Al Rahba show low Sodium Adsorption Ratios. In Al Ain, as well as Al Hayer, Al Salamat, Al Wagan and Remah, where access to good and intermediate well water for irrigation purposes is possible, SAR still remains below the critical limit of 15. Elevated Sodium Adsorption Ratio values are usually denoted by soil alkalinity.
Data on SAR based on field survey results which havebeen interpolated using IDW to show the distribution within the Abu Dhabi Emirate
Name: Enviroportal/DBO_GroundwaterSAR_IDW
Description: High Sodium Adsorption Ratios (SAR) indicate toxicity for susceptible plants like fruit trees and vegetables. Areas with predominant irrigation by desalinated water such as Ajban Palace, Al Nahda and Al Rahba show low Sodium Adsorption Ratios. In Al Ain, as well as Al Hayer, Al Salamat, Al Wagan and Remah, where access to good and intermediate well water for irrigation purposes is possible, SAR still remains below the critical limit of 15. Elevated Sodium Adsorption Ratio values are usually denoted by soil alkalinity.
Data on SAR based on field survey results which havebeen interpolated using IDW to show the distribution within the Abu Dhabi Emirate
Single Fused Map Cache: false
Extent:
XMin: 51.55426992975982
YMin: 22.55312350019786
XMax: 56.02841368050736
YMax: 24.922903029196394
Spatial Reference: 4326
(4326)
LatestVCSWkid(0)
Initial Extent:
XMin: 51.55426992975982
YMin: 22.55312350019786
XMax: 56.02841368050736
YMax: 24.922903029196394
Spatial Reference: 4326
(4326)
LatestVCSWkid(0)
Full Extent:
XMin: 51.55426992975982
YMin: 22.55312350019786
XMax: 56.02841368050736
YMax: 24.922903029196394
Spatial Reference: 4326
(4326)
LatestVCSWkid(0)
Pixel Size X: 0.009479118115990559
Pixel Size Y: 0.00947911811599414
Band Count: 1
Pixel Type: F32
RasterFunction Infos: {"rasterFunctionInfos": [{
"name": "None",
"description": "",
"help": ""
}]}
Mensuration Capabilities: Basic
Inspection Capabilities:
Has Histograms: true
Has Colormap: false
Has Multi Dimensions : false
Rendering Rule:
Min Scale: 0
Max Scale: 0
Copyright Text: Source Agency: DCI (2018)
Collection Agency: DCI (2016/17)
Maintenance Agency: EAD
Custodial Agency: EAD
Contact: EAD - Environment Information, Science & Outreach Management (EISOM)
Service Data Type: esriImageServiceDataTypeGeneric
Min Values: 1.9305381774902344
Max Values: 85.45551300048828
Mean Values: 20.211507104414085
Standard Deviation Values: 7.080632651284843
Object ID Field:
Fields:
None
Default Mosaic Method: Center
Allowed Mosaic Methods:
SortField:
SortValue: null
Mosaic Operator: First
Default Compression Quality: 75
Default Resampling Method: Bilinear
Max Record Count: null
Max Image Height: 4100
Max Image Width: 15000
Max Download Image Count: null
Max Mosaic Image Count: null
Allow Raster Function: true
Allow Copy: true
Allow Analysis: true
Allow Compute TiePoints: false
Supports Statistics: false
Supports Advanced Queries: false
Use StandardizedQueries: false
Raster Type Infos:
Name: Raster Dataset
Description: Supports all ArcGIS Raster Datasets
Help:
Has Raster Attribute Table: false
Edit Fields Info: null
Ownership Based AccessControl For Rasters: null
Child Resources:
Info
Histograms
Statistics
Key Properties
Legend
Raster Function Infos
Supported Operations:
Export Image
Identify
Measure
Compute Histograms
Compute Statistics Histograms
Get Samples
Compute Class Statistics
Query Boundary
Compute Pixel Location
Compute Angles
Validate
Project