{ "currentVersion": 11.3, "serviceDescription": "
High <\/SPAN>Sodium Adsorption Ratio<\/SPAN>s<\/SPAN> <\/SPAN>(SAR) indicat<\/SPAN>e <\/SPAN>toxicity for susceptible plants like fruit trees and vegetables.<\/SPAN> <\/SPAN>Areas with predominant irrigation by desalinated water such as Ajban Palace, Al Nahda and Al Rahba show low Sodium Adsorption Ratios. In Al Ain, as well as Al Hayer, Al Salamat, Al Wagan and Remah, where access to good and intermediate well water for irrigation <\/SPAN>purposes <\/SPAN>is possible, SAR still remains below the critical limit of 15. Elevated Sodium Adsorption Ratio values are usually denoted by soil alkalinity.<\/SPAN><\/P> Data on <\/SPAN>SAR <\/SPAN>based on field survey results which <\/SPAN>ha<\/SPAN>ve<\/SPAN>been interpolated using IDW to show the distribution within the Abu Dhabi Emirate<\/SPAN><\/P><\/DIV><\/DIV><\/DIV>",
"name": "Enviroportal/DBO_GroundwaterSAR_IDW",
"description": " High <\/SPAN>Sodium Adsorption Ratio<\/SPAN>s<\/SPAN> <\/SPAN>(SAR) indicat<\/SPAN>e <\/SPAN>toxicity for susceptible plants like fruit trees and vegetables.<\/SPAN> <\/SPAN>Areas with predominant irrigation by desalinated water such as Ajban Palace, Al Nahda and Al Rahba show low Sodium Adsorption Ratios. In Al Ain, as well as Al Hayer, Al Salamat, Al Wagan and Remah, where access to good and intermediate well water for irrigation <\/SPAN>purposes <\/SPAN>is possible, SAR still remains below the critical limit of 15. Elevated Sodium Adsorption Ratio values are usually denoted by soil alkalinity.<\/SPAN><\/P> Data on <\/SPAN>SAR <\/SPAN>based on field survey results which <\/SPAN>ha<\/SPAN>ve<\/SPAN>been interpolated using IDW to show the distribution within the Abu Dhabi Emirate<\/SPAN><\/P><\/DIV><\/DIV><\/DIV>",
"extent": {
"xmin": 51.55426992975982,
"ymin": 22.55312350019786,
"xmax": 56.02841368050736,
"ymax": 24.922903029196394,
"spatialReference": {
"wkid": 4326,
"latestWkid": 4326
}
},
"initialExtent": {
"xmin": 51.55426992975982,
"ymin": 22.55312350019786,
"xmax": 56.02841368050736,
"ymax": 24.922903029196394,
"spatialReference": {
"wkid": 4326,
"latestWkid": 4326
}
},
"fullExtent": {
"xmin": 51.55426992975982,
"ymin": 22.55312350019786,
"xmax": 56.02841368050736,
"ymax": 24.922903029196394,
"spatialReference": {
"wkid": 4326,
"latestWkid": 4326
}
},
"sortableFields": "",
"bandCount": 1,
"pixelType": "F32",
"minValues": [
1.9305381774902344
],
"maxValues": [
85.45551300048828
],
"meanValues": [
20.211507104414085
],
"stdvValues": [
7.080632651284843
],
"hasMultidimensions": false,
"pixelSizeX": 0.009479118115990559,
"pixelSizeY": 0.00947911811599414,
"meanPixelSize": 1055.210601841563,
"datasetFormat": "SDR",
"uncompressedSize": 472000,
"blockWidth": 128,
"blockHeight": 128,
"compressionType": "LZ77",
"bandNames": [
"Band_1"
],
"allowCopy": true,
"allowAnalysis": true,
"itemAccess": false,
"inspectionCapabilities": "",
"minPixelSize": 0,
"maxPixelSize": 0,
"copyrightText": "Source Agency: DCI (2018)\nCollection Agency: DCI (2016/17)\nMaintenance Agency: EAD\nCustodial Agency: EAD\nContact: EAD - Environment Information, Science & Outreach Management (EISOM)",
"serviceDataType": "esriImageServiceDataTypeGeneric",
"serviceSourceType": "esriImageServiceSourceTypeDataset",
"objectIdField": "",
"fields": [],
"capabilities": "Image,Metadata,Mensuration",
"defaultMosaicMethod": "Center",
"allowedMosaicMethods": "",
"sortField": "",
"sortValue": null,
"sortAscending": true,
"mosaicOperator": "First",
"defaultCompressionQuality": 75,
"defaultResamplingMethod": "Bilinear",
"maxImageHeight": 4100,
"maxImageWidth": 15000,
"allowRasterFunction": true,
"rasterFunctionInfos": [
{
"name": "None",
"description": "",
"help": ""
}
],
"rasterTypeInfos": [
{
"name": "Raster Dataset",
"description": "Supports all ArcGIS Raster Datasets",
"help": ""
}
],
"mensurationCapabilities": "Basic",
"hasHistograms": true,
"hasColormap": false,
"hasRasterAttributeTable": false,
"minScale": 0,
"maxScale": 0,
"exportTilesAllowed": false,
"supportsStatistics": false,
"supportsAdvancedQueries": false,
"editFieldsInfo": null,
"ownershipBasedAccessControlForRasters": null,
"allowComputeTiePoints": false,
"useStandardizedQueries": false,
"advancedQueryCapabilities": {
"useStandardizedQueries": false,
"supportsStatistics": false,
"supportsOrderBy": false,
"supportsDistinct": false,
"supportsPagination": false
},
"spatialReference": {
"wkid": 4326,
"latestWkid": 4326
}
}