<?xml version="1.0" encoding="UTF-8" standalone="no"?>
<metadata xml:lang="de">
  <Esri>
    <CreaDate>20181212</CreaDate>
    <CreaTime>15345500</CreaTime>
    <ArcGISFormat>1.0</ArcGISFormat>
    <SyncOnce>FALSE</SyncOnce>
    <DataProperties>
      <itemProps>
        <itemName Sync="TRUE">GroundwaterSAR_IDW</itemName>
        <imsContentType Sync="TRUE">002</imsContentType>
        <nativeExtBox>
          <westBL Sync="TRUE">51.554270</westBL>
          <eastBL Sync="TRUE">56.028414</eastBL>
          <southBL Sync="TRUE">22.553124</southBL>
          <northBL Sync="TRUE">24.922903</northBL>
          <exTypeCode Sync="TRUE">1</exTypeCode>
        </nativeExtBox>
        <itemLocation>
          <linkage Sync="TRUE">file://\\AEAD-FILE01\Projects$\EAD_WellInventory\GIS\EAD_WIP.gdb</linkage>
          <protocol Sync="TRUE">Local Area Network</protocol>
        </itemLocation>
      </itemProps>
      <coordRef>
        <type Sync="TRUE">Geographic</type>
        <geogcsn Sync="TRUE">GCS_WGS_1984</geogcsn>
        <csUnits Sync="TRUE">Angular Unit: Degree (0.017453)</csUnits>
        <peXml Sync="TRUE">&lt;GeographicCoordinateSystem xsi:type='typens:GeographicCoordinateSystem' xmlns:xsi='http://www.w3.org/2001/XMLSchema-instance' xmlns:xs='http://www.w3.org/2001/XMLSchema' xmlns:typens='http://www.esri.com/schemas/ArcGIS/10.4'&gt;&lt;WKT&gt;GEOGCS[&amp;quot;GCS_WGS_1984&amp;quot;,DATUM[&amp;quot;D_WGS_1984&amp;quot;,SPHEROID[&amp;quot;WGS_1984&amp;quot;,6378137.0,298.257223563]],PRIMEM[&amp;quot;Greenwich&amp;quot;,0.0],UNIT[&amp;quot;Degree&amp;quot;,0.0174532925199433],AUTHORITY[&amp;quot;EPSG&amp;quot;,4326]]&lt;/WKT&gt;&lt;XOrigin&gt;-400&lt;/XOrigin&gt;&lt;YOrigin&gt;-400&lt;/YOrigin&gt;&lt;XYScale&gt;11258999068426.238&lt;/XYScale&gt;&lt;ZOrigin&gt;-100000&lt;/ZOrigin&gt;&lt;ZScale&gt;10000&lt;/ZScale&gt;&lt;MOrigin&gt;-100000&lt;/MOrigin&gt;&lt;MScale&gt;10000&lt;/MScale&gt;&lt;XYTolerance&gt;8.983152841195215e-009&lt;/XYTolerance&gt;&lt;ZTolerance&gt;0.001&lt;/ZTolerance&gt;&lt;MTolerance&gt;0.001&lt;/MTolerance&gt;&lt;HighPrecision&gt;true&lt;/HighPrecision&gt;&lt;LeftLongitude&gt;-180&lt;/LeftLongitude&gt;&lt;WKID&gt;4326&lt;/WKID&gt;&lt;LatestWKID&gt;4326&lt;/LatestWKID&gt;&lt;/GeographicCoordinateSystem&gt;</peXml>
      </coordRef>
      <lineage>
        <Process Date="20241122" Time="175916" ToolSource="c:\program files\arcgis\pro\Resources\ArcToolbox\toolboxes\Data Management Tools.tbx\CopyMultiple">CopyMultiple "E:\EDP\DataTeam\GW\HGM\HGM\SQLServer-10-GroundwaterWellInventory.sde\GroundwaterWellInventory.DBO.AsterHillshade RasterDataset;E:\EDP\DataTeam\GW\HGM\HGM\SQLServer-10-GroundwaterWellInventory.sde\GroundwaterWellInventory.DBO.AsterHillshadeResampled RasterDataset;E:\EDP\DataTeam\GW\HGM\HGM\SQLServer-10-GroundwaterWellInventory.sde\GroundwaterWellInventory.DBO.BottomShallowAquifer RasterDataset;E:\EDP\DataTeam\GW\HGM\HGM\SQLServer-10-GroundwaterWellInventory.sde\GroundwaterWellInventory.DBO.GroundwaterChange0517_Projec RasterDataset;E:\EDP\DataTeam\GW\HGM\HGM\SQLServer-10-GroundwaterWellInventory.sde\GroundwaterWellInventory.DBO.GroundwaterDepthtoGroundwater RasterDataset;E:\EDP\DataTeam\GW\HGM\HGM\SQLServer-10-GroundwaterWellInventory.sde\GroundwaterWellInventory.DBO.GroundwaterFreshwaterDensity2017 RasterDataset;E:\EDP\DataTeam\GW\HGM\HGM\SQLServer-10-GroundwaterWellInventory.sde\GroundwaterWellInventory.DBO.GroundwaterFreshwaterLevel2017 RasterDataset;E:\EDP\DataTeam\GW\HGM\HGM\SQLServer-10-GroundwaterWellInventory.sde\GroundwaterWellInventory.DBO.GroundwaterHardnessIDW RasterDataset;E:\EDP\DataTeam\GW\HGM\HGM\SQLServer-10-GroundwaterWellInventory.sde\GroundwaterWellInventory.DBO.GroundwaterLevel2017 RasterDataset;E:\EDP\DataTeam\GW\HGM\HGM\SQLServer-10-GroundwaterWellInventory.sde\GroundwaterWellInventory.DBO.GroundwaterSAR_IDW RasterDataset;E:\EDP\DataTeam\GW\HGM\HGM\SQLServer-10-GroundwaterWellInventory.sde\GroundwaterWellInventory.DBO.GroundwaterSaturatedAquifer RasterDataset;E:\EDP\DataTeam\GW\HGM\HGM\SQLServer-10-GroundwaterWellInventory.sde\GroundwaterWellInventory.DBO.SoilSaliAD_Region_0_25 RasterDataset;E:\EDP\DataTeam\GW\HGM\HGM\SQLServer-10-GroundwaterWellInventory.sde\GroundwaterWellInventory.DBO.SoilSaliAD_Region_25_50 RasterDataset;E:\EDP\DataTeam\GW\HGM\HGM\SQLServer-10-GroundwaterWellInventory.sde\GroundwaterWellInventory.DBO.SoilSaliAD_Region_50_150 RasterDataset;E:\EDP\DataTeam\GW\HGM\HGM\SQLServer-10-GroundwaterWellInventory.sde\GroundwaterWellInventory.DBO.SoilSaliAlAin_Region_0_25 RasterDataset;E:\EDP\DataTeam\GW\HGM\HGM\SQLServer-10-GroundwaterWellInventory.sde\GroundwaterWellInventory.DBO.SoilSaliAlAin_Region_25_50 RasterDataset;E:\EDP\DataTeam\GW\HGM\HGM\SQLServer-10-GroundwaterWellInventory.sde\GroundwaterWellInventory.DBO.SoilSaliAlAin_Region_50_150 RasterDataset;E:\EDP\DataTeam\GW\HGM\HGM\SQLServer-10-GroundwaterWellInventory.sde\GroundwaterWellInventory.DBO.SoilSaliAlDhafra_Region_0_25 RasterDataset;E:\EDP\DataTeam\GW\HGM\HGM\SQLServer-10-GroundwaterWellInventory.sde\GroundwaterWellInventory.DBO.SoilSaliAlDhafra_Region_25_50 RasterDataset;E:\EDP\DataTeam\GW\HGM\HGM\SQLServer-10-GroundwaterWellInventory.sde\GroundwaterWellInventory.DBO.SoilSaliAlDhafra_Region_50_150 RasterDataset" E:\EDP\DataTeam\GW\HGM\HGM\SQLServer-eadprodmssql01-Groundwater(edp_user@ead.gov.ae).sde AsterHillshade;AsterHillshadeResampled;BottomShallowAquifer;GroundwaterChange0517_Projec;GroundwaterDepthtoGroundwater;GroundwaterFreshwaterDensity2017;GroundwaterFreshwaterLevel2017;GroundwaterHardnessIDW;GroundwaterLevel2017;GroundwaterSAR_IDW;GroundwaterSaturatedAquifer;SoilSaliAD_Region_0_25;SoilSaliAD_Region_25_50;SoilSaliAD_Region_50_150;SoilSaliAlAin_Region_0_25;SoilSaliAlAin_Region_25_50;SoilSaliAlAin_Region_50_150;SoilSaliAlDhafra_Region_0_25;SoilSaliAlDhafra_Region_25_50;SoilSaliAlDhafra_Region_50_150 "GroundwaterWellInventory.DBO.AsterHillshade RasterDataset DBO.AsterHillshade #;GroundwaterWellInventory.DBO.AsterHillshadeResampled RasterDataset DBO.AsterHillshadeResampled #;GroundwaterWellInventory.DBO.BottomShallowAquifer RasterDataset DBO.BottomShallowAquifer #;GroundwaterWellInventory.DBO.GroundwaterChange0517_Projec RasterDataset DBO.GroundwaterChange0517_Projec #;GroundwaterWellInventory.DBO.GroundwaterDepthtoGroundwater RasterDataset DBO.GroundwaterDepthtoGroundwater #;GroundwaterWellInventory.DBO.GroundwaterFreshwaterDensity2017 RasterDataset DBO.GroundwaterFreshwaterDensity2017 #;GroundwaterWellInventory.DBO.GroundwaterFreshwaterLevel2017 RasterDataset DBO.GroundwaterFreshwaterLevel2017 #;GroundwaterWellInventory.DBO.GroundwaterHardnessIDW RasterDataset DBO.GroundwaterHardnessIDW #;GroundwaterWellInventory.DBO.GroundwaterLevel2017 RasterDataset DBO.GroundwaterLevel2017 #;GroundwaterWellInventory.DBO.GroundwaterSAR_IDW RasterDataset DBO.GroundwaterSAR_IDW #;GroundwaterWellInventory.DBO.GroundwaterSaturatedAquifer RasterDataset DBO.GroundwaterSaturatedAquifer #;GroundwaterWellInventory.DBO.SoilSaliAD_Region_0_25 RasterDataset DBO.SoilSaliAD_Region_0_25 #;GroundwaterWellInventory.DBO.SoilSaliAD_Region_25_50 RasterDataset DBO.SoilSaliAD_Region_25_50 #;GroundwaterWellInventory.DBO.SoilSaliAD_Region_50_150 RasterDataset DBO.SoilSaliAD_Region_50_150 #;GroundwaterWellInventory.DBO.SoilSaliAlAin_Region_0_25 RasterDataset DBO.SoilSaliAlAin_Region_0_25 #;GroundwaterWellInventory.DBO.SoilSaliAlAin_Region_25_50 RasterDataset DBO.SoilSaliAlAin_Region_25_50 #;GroundwaterWellInventory.DBO.SoilSaliAlAin_Region_50_150 RasterDataset DBO.SoilSaliAlAin_Region_50_150 #;GroundwaterWellInventory.DBO.SoilSaliAlDhafra_Region_0_25 RasterDataset DBO.SoilSaliAlDhafra_Region_0_25 #;GroundwaterWellInventory.DBO.SoilSaliAlDhafra_Region_25_50 RasterDataset DBO.SoilSaliAlDhafra_Region_25_50 #;GroundwaterWellInventory.DBO.SoilSaliAlDhafra_Region_50_150 RasterDataset DBO.SoilSaliAlDhafra_Region_50_150 #"</Process>
      </lineage>
    </DataProperties>
    <SyncDate>20190529</SyncDate>
    <SyncTime>15292500</SyncTime>
    <ModDate>20190529</ModDate>
    <ModTime>15292500</ModTime>
    <scaleRange>
      <minScale>150000000</minScale>
      <maxScale>5000</maxScale>
    </scaleRange>
    <ArcGISProfile>ItemDescription</ArcGISProfile>
  </Esri>
  <dataIdInfo>
    <envirDesc Sync="TRUE"> Version 6.2 (Build 9200) ; Esri ArcGIS 10.4.1.5686</envirDesc>
    <dataLang>
      <languageCode Sync="TRUE" value="deu"/>
      <countryCode Sync="TRUE" value="DEU"/>
    </dataLang>
    <idCitation>
      <resTitle Sync="TRUE">DBO_GroundwaterSAR_IDW</resTitle>
      <presForm>
        <PresFormCd Sync="TRUE" value="011"/>
      </presForm>
    </idCitation>
    <spatRpType>
      <SpatRepTypCd Sync="TRUE" value="002"/>
    </spatRpType>
    <dataExt>
      <geoEle>
        <GeoBndBox esriExtentType="search">
          <exTypeCode Sync="TRUE">1</exTypeCode>
          <westBL Sync="TRUE">51.554270</westBL>
          <eastBL Sync="TRUE">56.028414</eastBL>
          <northBL Sync="TRUE">24.922903</northBL>
          <southBL Sync="TRUE">22.553124</southBL>
        </GeoBndBox>
      </geoEle>
    </dataExt>
    <idPurp>Interpolated Distribution of the sodium absorption ratio of groundwater in the Abu Dhabi Emirate</idPurp>
    <idAbs>&lt;div style='text-align:Left;'&gt;&lt;div&gt;&lt;div&gt;&lt;p&gt;&lt;span&gt;High &lt;/span&gt;&lt;span&gt;Sodium Adsorption Ratio&lt;/span&gt;&lt;span&gt;s&lt;/span&gt;&lt;span&gt; &lt;/span&gt;&lt;span&gt;(SAR) indicat&lt;/span&gt;&lt;span&gt;e &lt;/span&gt;&lt;span&gt;toxicity for susceptible plants like fruit trees and vegetables.&lt;/span&gt;&lt;span&gt; &lt;/span&gt;&lt;span&gt;Areas with predominant irrigation by desalinated water such as Ajban Palace, Al Nahda and Al Rahba show low Sodium Adsorption Ratios. In Al Ain, as well as Al Hayer, Al Salamat, Al Wagan and Remah, where access to good and intermediate well water for irrigation &lt;/span&gt;&lt;span&gt;purposes &lt;/span&gt;&lt;span&gt;is possible, SAR still remains below the critical limit of 15. Elevated Sodium Adsorption Ratio values are usually denoted by soil alkalinity.&lt;/span&gt;&lt;/p&gt;&lt;p&gt;&lt;span&gt;Data on &lt;/span&gt;&lt;span&gt;SAR &lt;/span&gt;&lt;span&gt;based on field survey results which &lt;/span&gt;&lt;span&gt;ha&lt;/span&gt;&lt;span&gt;ve&lt;/span&gt;&lt;span&gt;been interpolated using IDW to show the distribution within the Abu Dhabi Emirate&lt;/span&gt;&lt;/p&gt;&lt;/div&gt;&lt;/div&gt;&lt;/div&gt;</idAbs>
    <idCredit>Source Agency: DCI (2018)
Collection Agency: DCI (2016/17)
Maintenance Agency: EAD
Custodial Agency: EAD
Contact: EAD - Environment Information, Science &amp; Outreach Management (EISOM)</idCredit>
    <searchKeys>
      <keyword>SAR</keyword>
      <keyword>sodium absorption ratio</keyword>
      <keyword>Water Samples</keyword>
      <keyword>IDW</keyword>
      <keyword>Interpolation</keyword>
      <keyword>Distribution</keyword>
    </searchKeys>
    <resConst>
      <Consts>
        <useLimit/>
      </Consts>
    </resConst>
  </dataIdInfo>
  <mdLang>
    <languageCode Sync="TRUE" value="deu"/>
    <countryCode Sync="TRUE" value="DEU"/>
  </mdLang>
  <distInfo>
    <distFormat>
      <formatName Sync="TRUE">File Geodatabase Raster Dataset</formatName>
    </distFormat>
  </distInfo>
  <mdHrLv>
    <ScopeCd Sync="TRUE" value="005"/>
  </mdHrLv>
  <mdHrLvName Sync="TRUE">dataset</mdHrLvName>
  <refSysInfo>
    <RefSystem>
      <refSysID>
        <identCode Sync="TRUE" code="4326"/>
        <idCodeSpace Sync="TRUE">EPSG</idCodeSpace>
        <idVersion Sync="TRUE">6.14(3.0.1)</idVersion>
      </refSysID>
    </RefSystem>
  </refSysInfo>
  <spdoinfo>
    <rastinfo>
      <rasttype Sync="TRUE">Pixel</rasttype>
      <rowcount Sync="TRUE">250</rowcount>
      <colcount Sync="TRUE">472</colcount>
      <rastxsz Sync="TRUE">0,009479</rastxsz>
      <rastysz Sync="TRUE">0,009479</rastysz>
      <rastbpp Sync="TRUE">32</rastbpp>
      <vrtcount Sync="TRUE">1</vrtcount>
      <rastorig Sync="TRUE">Upper Left</rastorig>
      <rastcmap Sync="TRUE">FALSE</rastcmap>
      <rastcomp Sync="TRUE">LZ77</rastcomp>
      <rastband Sync="TRUE">1</rastband>
      <rastdtyp Sync="TRUE">pixel codes</rastdtyp>
      <rastifor Sync="TRUE">FGDBR</rastifor>
      <rastplyr Sync="TRUE">TRUE</rastplyr>
    </rastinfo>
  </spdoinfo>
  <spref>
    <horizsys>
      <planar>
        <planci>
          <plance Sync="TRUE">row and column</plance>
          <coordrep>
            <absres Sync="TRUE">0,009479</absres>
            <ordres Sync="TRUE">0,009479</ordres>
          </coordrep>
        </planci>
      </planar>
    </horizsys>
  </spref>
  <mdDateSt Sync="TRUE">20190529</mdDateSt>
</metadata>
